BEGIN:VCALENDAR
VERSION:2.0
PRODID:https://www.zgks.ch/
BEGIN:VEVENT
UID:69e8ee528b3cc
DTSTART:20260530T070000Z
SEQUENCE:0
TRANSP:OPAQUE
DTEND:20260530T143000Z
URL:https://www.zgks.ch/
LOCATION:Physiotherapie Ebene 1\, E2 (Gymnastikraum)
SUMMARY:Geburtsvorbereitungskurs
CLASS:PUBLIC
DTSTAMP:20260422T155042Z
END:VEVENT
END:VCALENDAR