BEGIN:VCALENDAR
VERSION:2.0
PRODID:https://www.zgks.ch/
BEGIN:VEVENT
UID:69ed8477e6bd7
DTSTART:20260511T173000Z
SEQUENCE:0
TRANSP:OPAQUE
DTEND:20260511T190000Z
URL:https://www.zgks.ch/
LOCATION:Konferenzraum 1\, Ebene 1
SUMMARY:Info-Abend für werdende Eltern
CLASS:PUBLIC
DTSTAMP:20260426T032023Z
END:VEVENT
END:VCALENDAR