BEGIN:VCALENDAR
VERSION:2.0
PRODID:https://www.zgks.ch/
BEGIN:VEVENT
UID:69e5f5357ba76
DTSTART:20260421T161500Z
SEQUENCE:0
TRANSP:OPAQUE
DTEND:20260421T180000Z
URL:https://www.zgks.ch/
LOCATION:Konferenzraum 1\, Ebene 1
SUMMARY:Interdisziplinäre Schmerzbehandlung
CLASS:PUBLIC
DTSTAMP:20260420T094317Z
END:VEVENT
END:VCALENDAR