BEGIN:VCALENDAR
VERSION:2.0
PRODID:https://www.zgks.ch/
BEGIN:VEVENT
UID:69e5f9ed3ab80
DTSTART:20260526T161500Z
SEQUENCE:0
TRANSP:OPAQUE
DTEND:20260526T180000Z
URL:https://www.zgks.ch/
LOCATION:Konferenzraum 1\, Ebene 1
SUMMARY:Moderne Prostatatherapie
CLASS:PUBLIC
DTSTAMP:20260420T100325Z
END:VEVENT
END:VCALENDAR