BEGIN:VCALENDAR
VERSION:2.0
PRODID:https://www.zgks.ch/
BEGIN:VEVENT
UID:69ebbe9f807da
DTSTART:20260707T220000Z
SEQUENCE:0
TRANSP:OPAQUE
DTEND:20260709T220000Z
URL:https://www.zgks.ch/
LOCATION:Zuger Kantonsspital\, Baar
SUMMARY:Schnuppern in der Pflege
CLASS:PUBLIC
DTSTAMP:20260424T190359Z
END:VEVENT
END:VCALENDAR