BEGIN:VCALENDAR
VERSION:2.0
PRODID:https://www.zgks.ch/
BEGIN:VEVENT
UID:69ed699c11cf5
DTSTART:20260502T070000Z
SEQUENCE:0
TRANSP:OPAQUE
DTEND:20260502T093000Z
URL:https://www.zgks.ch/
LOCATION:Konferenzraum 1\, Ebene 1
SUMMARY:Stillvorbereitungskurs
CLASS:PUBLIC
DTSTAMP:20260426T012548Z
END:VEVENT
END:VCALENDAR